BEGIN:VCALENDAR
VERSION:2.0
PRODID:icalendar-ruby
CALSCALE:GREGORIAN
BEGIN:VEVENT
DTSTAMP:20260420T090802Z
UID:757aceb4-cdec-41a6-888b-7ebf95f3970b
DTSTART;VALUE=DATE:20210901
DESCRIPTION:Property ID# 515440\, Locatoin: 30 Bay Road\, Kilbirnie\, Time:
  12:00PM
SUMMARY:Auction for 
END:VEVENT
END:VCALENDAR
