BEGIN:VCALENDAR
VERSION:2.0
PRODID:icalendar-ruby
CALSCALE:GREGORIAN
BEGIN:VEVENT
DTSTAMP:20260422T092204Z
UID:c3c3745a-b40a-4c21-bd0a-0b4dda138116
DTSTART;VALUE=DATE:20211110
DESCRIPTION:Property ID# 520147\, Locatoin: 30 Bay Road\, Kilbirnie\, Time:
  12:00PM
SUMMARY:Auction for 
END:VEVENT
END:VCALENDAR
