BEGIN:VCALENDAR
VERSION:2.0
PRODID:icalendar-ruby
CALSCALE:GREGORIAN
BEGIN:VEVENT
DTSTAMP:20260421T030836Z
UID:027f411c-4fbc-43d3-b90e-669f08f7f010
DTSTART;VALUE=DATE:20211214
DESCRIPTION:Property ID# 523936\, Locatoin: In Rooms Harcourts Takapuna 128
  Hurstmere Road \, Time: 12:00PM
SUMMARY:Auction for 
END:VEVENT
END:VCALENDAR
