BEGIN:VCALENDAR
VERSION:2.0
PRODID:icalendar-ruby
CALSCALE:GREGORIAN
BEGIN:VEVENT
DTSTAMP:20260421T040118Z
UID:e5b6bc28-4c5b-4446-ae65-26a57048b453
DTSTART;VALUE=DATE:20220203
DESCRIPTION:Property ID# 525670\, Time: 1:00PM
SUMMARY:Auction for 
END:VEVENT
END:VCALENDAR
