BEGIN:VCALENDAR
VERSION:2.0
PRODID:icalendar-ruby
CALSCALE:GREGORIAN
BEGIN:VEVENT
DTSTAMP:20260423T030244Z
UID:8617b7ab-a06c-490f-b81b-c911163728e9
DTSTART;VALUE=DATE:20221013
DESCRIPTION:Property ID# 543943\, Locatoin: 233 Dairy Flat Highway\, Albany
  Village\, Time: 2:00PM
SUMMARY:Auction for 
END:VEVENT
END:VCALENDAR
