BEGIN:VCALENDAR
VERSION:2.0
PRODID:icalendar-ruby
CALSCALE:GREGORIAN
BEGIN:VEVENT
DTSTAMP:20260424T122904Z
UID:2fad40ec-0b9d-4bd1-a288-8d547988e7bb
DTSTART;VALUE=DATE:20251106
DESCRIPTION:Property ID# 596100\, Time: 4:00PM
SUMMARY:Auction for 
END:VEVENT
END:VCALENDAR
